BEGIN:VCALENDAR
METHOD:PUBLISH
VERSION:2.0
CALSCALE:GREGORIAN
PRODID:-//NONSGML WPForms//NONSGML Sugar Calendar Feeds v3.10.0//EN
X-WR-CALNAME:Fair-Elections-Round-Table
X-WR-CALDESC:League of Women Voters Piedmont Triad
X-WR-TIMEZONE:UTC
BEGIN:VTIMEZONE
TZID:UTC
BEGIN:STANDARD
TZOFFSETFROM:+0000
TZOFFSETTO:+0000
DTSTART:20261014T053000
TZNAME:UTC
END:STANDARD
END:VTIMEZONE
BEGIN:VTIMEZONE
TZID:UTC
BEGIN:STANDARD
TZOFFSETFROM:+0000
TZOFFSETTO:+0000
DTSTART:20261014T053000
TZNAME:UTC
END:STANDARD
END:VTIMEZONE
BEGIN:VEVENT
SUMMARY:Fair Elections Round Table
DESCRIPTION:The Fair Elections Round Table meets on the second Wednesday
  of the month at 5:30 p.m. via Zoom. To attend a meeting\, contact Andy 
 Stern or Tyler Daye at fairelections@lwvpt.org\n\n&nbsp\;
URL;VALUE=URI:https://lwvpiedmonttriad.org/sc_recurring_event/fair-elect
 ions-round-table/
UID:urn:uuid:701abfd5-5047-480f-b3df-a9e5ee0fb6c6
STATUS:CONFIRMED
ORGANIZER:
DTSTAMP:20260420T160648Z
DTSTART;TZID=UTC:20270414T173000
DTEND;TZID=UTC:20270414T183000
RRULE:FREQ=MONTHLY;INTERVAL=1
END:VEVENT
END:VCALENDAR