BEGIN:VCALENDAR
METHOD:PUBLISH
VERSION:2.0
CALSCALE:GREGORIAN
PRODID:-//NONSGML WPForms//NONSGML Sugar Calendar Feeds v3.10.0//EN
X-WR-CALNAME:Criminal-Justice-Roundtable-Meeting
X-WR-CALDESC:League of Women Voters Piedmont Triad
X-WR-TIMEZONE:UTC
BEGIN:VTIMEZONE
TZID:UTC
BEGIN:STANDARD
TZOFFSETFROM:+0000
TZOFFSETTO:+0000
DTSTART:20270112T030000
TZNAME:UTC
END:STANDARD
END:VTIMEZONE
BEGIN:VTIMEZONE
TZID:UTC
BEGIN:STANDARD
TZOFFSETFROM:+0000
TZOFFSETTO:+0000
DTSTART:20270112T030000
TZNAME:UTC
END:STANDARD
END:VTIMEZONE
BEGIN:VEVENT
SUMMARY:Criminal Justice Roundtable Meeting
DESCRIPTION:Contact information to attend: cjrt@lwvpt.org
URL;VALUE=URI:https://lwvpiedmonttriad.org/sc_recurring_event/criminal-j
 ustice-roundtable/
UID:urn:uuid:8dc2a54a-7f10-4f0d-bdf4-abc3ce5cc731
STATUS:CONFIRMED
ORGANIZER:
DTSTAMP:20260420T154022Z
DTSTART;TZID=UTC:20270713T150000
DTEND;TZID=UTC:20270713T163000
RRULE:FREQ=MONTHLY;INTERVAL=1
END:VEVENT
END:VCALENDAR